BEGIN:VCALENDAR
VERSION:2.0
PRODID:-//The Computer Company - ECPv6.15.19//NONSGML v1.0//EN
CALSCALE:GREGORIAN
METHOD:PUBLISH
X-WR-CALNAME:The Computer Company
X-ORIGINAL-URL:https://computercompany.net
X-WR-CALDESC:Events for The Computer Company
REFRESH-INTERVAL;VALUE=DURATION:PT1H
X-Robots-Tag:noindex
X-PUBLISHED-TTL:PT1H
BEGIN:VTIMEZONE
TZID:America/New_York
BEGIN:DAYLIGHT
TZOFFSETFROM:-0500
TZOFFSETTO:-0400
TZNAME:EDT
DTSTART:20250309T070000
END:DAYLIGHT
BEGIN:STANDARD
TZOFFSETFROM:-0400
TZOFFSETTO:-0500
TZNAME:EST
DTSTART:20251102T060000
END:STANDARD
BEGIN:DAYLIGHT
TZOFFSETFROM:-0500
TZOFFSETTO:-0400
TZNAME:EDT
DTSTART:20260308T070000
END:DAYLIGHT
BEGIN:STANDARD
TZOFFSETFROM:-0400
TZOFFSETTO:-0500
TZNAME:EST
DTSTART:20261101T060000
END:STANDARD
BEGIN:DAYLIGHT
TZOFFSETFROM:-0500
TZOFFSETTO:-0400
TZNAME:EDT
DTSTART:20270314T070000
END:DAYLIGHT
BEGIN:STANDARD
TZOFFSETFROM:-0400
TZOFFSETTO:-0500
TZNAME:EST
DTSTART:20271107T060000
END:STANDARD
END:VTIMEZONE
BEGIN:VEVENT
DTSTART;TZID=America/New_York:20260319T130000
DTEND;TZID=America/New_York:20260319T140000
DTSTAMP:20260425T090621
CREATED:20260223T200756Z
LAST-MODIFIED:20260223T210817Z
UID:10000013-1773925200-1773928800@computercompany.net
SUMMARY:MyITInsights: Take Control of Your IT
DESCRIPTION:See full details
URL:https://computercompany.net/event/myitinsights-take-control-of-your-it/
ATTACH;FMTTYPE=image/png:https://computercompany.net/wp-content/uploads/2026/02/TCC-Facebook-Posts-1.png
END:VEVENT
END:VCALENDAR