BEGIN:VCALENDAR
VERSION:2.0
PRODID:-//The Computer Company - ECPv6.15.19//NONSGML v1.0//EN
CALSCALE:GREGORIAN
METHOD:PUBLISH
X-WR-CALNAME:The Computer Company
X-ORIGINAL-URL:https://computercompany.net
X-WR-CALDESC:Events for The Computer Company
REFRESH-INTERVAL;VALUE=DURATION:PT1H
X-Robots-Tag:noindex
X-PUBLISHED-TTL:PT1H
BEGIN:VTIMEZONE
TZID:America/New_York
BEGIN:DAYLIGHT
TZOFFSETFROM:-0500
TZOFFSETTO:-0400
TZNAME:EDT
DTSTART:20250309T070000
END:DAYLIGHT
BEGIN:STANDARD
TZOFFSETFROM:-0400
TZOFFSETTO:-0500
TZNAME:EST
DTSTART:20251102T060000
END:STANDARD
BEGIN:DAYLIGHT
TZOFFSETFROM:-0500
TZOFFSETTO:-0400
TZNAME:EDT
DTSTART:20260308T070000
END:DAYLIGHT
BEGIN:STANDARD
TZOFFSETFROM:-0400
TZOFFSETTO:-0500
TZNAME:EST
DTSTART:20261101T060000
END:STANDARD
BEGIN:DAYLIGHT
TZOFFSETFROM:-0500
TZOFFSETTO:-0400
TZNAME:EDT
DTSTART:20270314T070000
END:DAYLIGHT
BEGIN:STANDARD
TZOFFSETFROM:-0400
TZOFFSETTO:-0500
TZNAME:EST
DTSTART:20271107T060000
END:STANDARD
END:VTIMEZONE
BEGIN:VEVENT
DTSTART;TZID=America/New_York:20260430T130000
DTEND;TZID=America/New_York:20260430T140000
DTSTAMP:20260425T070440
CREATED:20260331T151225Z
LAST-MODIFIED:20260331T190320Z
UID:10000016-1777554000-1777557600@computercompany.net
SUMMARY:HIPAA Compliance: What Your Business Needs to Know in 2026
DESCRIPTION:See full details
URL:https://computercompany.net/event/hipaa-compliance-what-your-business-needs-to-know-in-2026/
ATTACH;FMTTYPE=image/png:https://computercompany.net/wp-content/uploads/2026/03/TCC-Facebook-Posts-2.png
END:VEVENT
END:VCALENDAR